BEGIN:VCALENDAR
VERSION:2.0
PRODID:-//Iowa Right to Life - ECPv6.15.20//NONSGML v1.0//EN
CALSCALE:GREGORIAN
METHOD:PUBLISH
X-ORIGINAL-URL:https://iowartl.org
X-WR-CALDESC:Events for Iowa Right to Life
REFRESH-INTERVAL;VALUE=DURATION:PT1H
X-Robots-Tag:noindex
X-PUBLISHED-TTL:PT1H
BEGIN:VTIMEZONE
TZID:UTC
BEGIN:STANDARD
TZOFFSETFROM:+0000
TZOFFSETTO:+0000
TZNAME:UTC
DTSTART:20250101T000000
END:STANDARD
END:VTIMEZONE
BEGIN:VEVENT
DTSTART;TZID=UTC:20261004T140000
DTEND;TZID=UTC:20261004T153000
DTSTAMP:20260422T181629
CREATED:20260204T181949Z
LAST-MODIFIED:20260204T181949Z
UID:10000075-1791122400-1791127800@iowartl.org
SUMMARY:Life Chain
DESCRIPTION:Life Chain 2026!! Join pro-lifers from Central Iowa for the thirty-sixth annual Life Chain on Sunday\, October 4th from 2:00pm-3:30pm.  We will stand for all the lives that God has created and spend the time in prayer and praise.  Life Chain will take place rain or shine.  Stand with us as we give glory to our Creator and thank Him for LIFE!!! \nLocation: TBA \nSince 1987\, believers have gathered nationwide on the first Sunday in October to prayerfully stand for life.  Contact: Paula Brown 515-556-6208
URL:https://iowartl.org/event/life-chain-2/
LOCATION:Iowa
CATEGORIES:Prayer
ATTACH;FMTTYPE=image/jpeg:https://iowartl.org/wp-content/uploads/2025/10/553761230_655085557367895_9134344850988107635_n-1.jpg
END:VEVENT
END:VCALENDAR