BEGIN:VCALENDAR
VERSION:2.0
PRODID:-//Iowa Right to Life - ECPv6.15.20//NONSGML v1.0//EN
CALSCALE:GREGORIAN
METHOD:PUBLISH
X-WR-CALNAME:Iowa Right to Life
X-ORIGINAL-URL:https://iowartl.org
X-WR-CALDESC:Events for Iowa Right to Life
REFRESH-INTERVAL;VALUE=DURATION:PT1H
X-Robots-Tag:noindex
X-PUBLISHED-TTL:PT1H
BEGIN:VTIMEZONE
TZID:UTC
BEGIN:STANDARD
TZOFFSETFROM:+0000
TZOFFSETTO:+0000
TZNAME:UTC
DTSTART:20240101T000000
END:STANDARD
END:VTIMEZONE
BEGIN:VTIMEZONE
TZID:America/Chicago
BEGIN:DAYLIGHT
TZOFFSETFROM:-0600
TZOFFSETTO:-0500
TZNAME:CDT
DTSTART:20240310T080000
END:DAYLIGHT
BEGIN:STANDARD
TZOFFSETFROM:-0500
TZOFFSETTO:-0600
TZNAME:CST
DTSTART:20241103T070000
END:STANDARD
BEGIN:DAYLIGHT
TZOFFSETFROM:-0600
TZOFFSETTO:-0500
TZNAME:CDT
DTSTART:20250309T080000
END:DAYLIGHT
BEGIN:STANDARD
TZOFFSETFROM:-0500
TZOFFSETTO:-0600
TZNAME:CST
DTSTART:20251102T070000
END:STANDARD
BEGIN:DAYLIGHT
TZOFFSETFROM:-0600
TZOFFSETTO:-0500
TZNAME:CDT
DTSTART:20260308T080000
END:DAYLIGHT
BEGIN:STANDARD
TZOFFSETFROM:-0500
TZOFFSETTO:-0600
TZNAME:CST
DTSTART:20261101T070000
END:STANDARD
END:VTIMEZONE
BEGIN:VEVENT
DTSTART;TZID=UTC:20251005T140000
DTEND;TZID=UTC:20251005T153000
DTSTAMP:20260422T194619
CREATED:20250211T234115Z
LAST-MODIFIED:20250909T214619Z
UID:10000010-1759672800-1759678200@iowartl.org
SUMMARY:Life Chain
DESCRIPTION:Life Chain 2025!! Join pro-lifers from Central Iowa for the thirty-sixth annual Life Chain on Sunday\, October 5th from 2:00pm-3:30pm.  We will stand for all the lives that God has created and spend the time in prayer and praise.  Parking and signs will be available at Des Moines Fellowship Church\, 950  35th Street\, Des Moines 50312.  We will stand on the south side of University Avenue and 35th Street on the west side of 31st Street and Kingman Boulevard.  Life Chain will take place rain or shine.  Stand with us as we give glory to our Creator and thank Him for LIFE!!! \nSince 1987\, believers have gathered nationwide on the first Sunday in October to prayerfully stand for life.  Contact: Paula Brown 515-556-6208
URL:https://iowartl.org/event/life-chain/
LOCATION:Des Moines Fellowship Church\, 950 35th Street\, Des Moines\, IA\, 50312\, United States
CATEGORIES:Prayer
ATTACH;FMTTYPE=image/jpeg:https://iowartl.org/wp-content/uploads/2025/02/Life-Chain-2025.jpg
END:VEVENT
BEGIN:VEVENT
DTSTART;TZID=America/Chicago:20251008T130000
DTEND;TZID=America/Chicago:20251008T140000
DTSTAMP:20260422T194619
CREATED:20251021T220353Z
LAST-MODIFIED:20251021T220353Z
UID:10000046-1759928400-1759932000@iowartl.org
SUMMARY:40 Days For Life/Iowa Right to Life Prayer Time
DESCRIPTION:From 9/24/25 through 11/2/25\, Iowa Right to Life will join the 40 Days For Life Fall Prayer Campaign.  Our community will unite with many others from coast to coast – and internationally – for a major pro-life mobilization – the 40 Days for Life campaign. Faithful believers are praying that these efforts will mark the beginning of the end of abortion. \nAs the Des Moines coordinator\, our campaign focus is on Prayer and Fasting: inviting people of faith throughout our city and surrounding areas to join together for 40 days of prayer and fasting for an end to abortion.  If you are able to join our Peaceful Vigil: we will be standing for life through a peaceful public witness outside the Susan Knapp Planned Parenthood Clinic\, 2304 University Avenue\, Des Moines\, Iowa 50311 on the dates and times published on the Iowa Right to Life website calendar\, and on the 40 Days For Life website for Des Moines\, Iowa. \nContact persons:  Kristi Judkins 515-669-2749   or   Paula Brown 515-556-6208
URL:https://iowartl.org/event/40-days-for-life-iowa-right-to-life-prayer-time-2-3/2025-10-08/
LOCATION:Susan Knapp Planned Parenthood Clinic\, 2304 University Avenue\, Des Moines\, Iowa\, 50311\, United States
CATEGORIES:Prayer
ATTACH;FMTTYPE=image/jpeg:https://iowartl.org/wp-content/uploads/2025/09/2025-Spring-DSM-PP-Paula-Wil-Carmen-Roger-Becca-Kristi.jpg
ORGANIZER;CN="Iowa Right to Life":MAILTO:paula@irlc.org
END:VEVENT
BEGIN:VEVENT
DTSTART;TZID=America/Chicago:20251016T130000
DTEND;TZID=America/Chicago:20251016T140000
DTSTAMP:20260422T194619
CREATED:20251021T220457Z
LAST-MODIFIED:20251021T220457Z
UID:10000047-1760619600-1760623200@iowartl.org
SUMMARY:40 Days For Life/Iowa Right to Life Prayer Time
DESCRIPTION:From 9/24/25 through 11/2/25\, Iowa Right to Life will join the 40 Days For Life Fall Prayer Campaign.  Our community will unite with many others from coast to coast – and internationally – for a major pro-life mobilization – the 40 Days for Life campaign. Faithful believers are praying that these efforts will mark the beginning of the end of abortion. \nAs the Des Moines coordinator\, our campaign focus is on Prayer and Fasting: inviting people of faith throughout our city and surrounding areas to join together for 40 days of prayer and fasting for an end to abortion.  If you are able to join our Peaceful Vigil: we will be standing for life through a peaceful public witness outside the Susan Knapp Planned Parenthood Clinic\, 2304 University Avenue\, Des Moines\, Iowa 50311 on the dates and times published on the Iowa Right to Life website calendar\, and on the 40 Days For Life website for Des Moines\, Iowa. \nContact persons:  Kristi Judkins 515-669-2749   or   Paula Brown 515-556-6208
URL:https://iowartl.org/event/40-days-for-life-iowa-right-to-life-prayer-time-2-4/2025-10-16/
LOCATION:Susan Knapp Planned Parenthood Clinic\, 2304 University Avenue\, Des Moines\, Iowa\, 50311\, United States
CATEGORIES:Prayer
ATTACH;FMTTYPE=image/jpeg:https://iowartl.org/wp-content/uploads/2025/09/2025-Spring-DSM-PP-Paula-Wil-Carmen-Roger-Becca-Kristi.jpg
ORGANIZER;CN="Iowa Right to Life":MAILTO:paula@irlc.org
END:VEVENT
BEGIN:VEVENT
DTSTART;TZID=America/Chicago:20251021T130000
DTEND;TZID=America/Chicago:20251021T140000
DTSTAMP:20260422T194619
CREATED:20251021T220608Z
LAST-MODIFIED:20251021T220608Z
UID:10000048-1761051600-1761055200@iowartl.org
SUMMARY:40 Days For Life/Iowa Right to Life Prayer Time
DESCRIPTION:From 9/24/25 through 11/2/25\, Iowa Right to Life will join the 40 Days For Life Fall Prayer Campaign.  Our community will unite with many others from coast to coast – and internationally – for a major pro-life mobilization – the 40 Days for Life campaign. Faithful believers are praying that these efforts will mark the beginning of the end of abortion. \nAs the Des Moines coordinator\, our campaign focus is on Prayer and Fasting: inviting people of faith throughout our city and surrounding areas to join together for 40 days of prayer and fasting for an end to abortion.  If you are able to join our Peaceful Vigil: we will be standing for life through a peaceful public witness outside the Susan Knapp Planned Parenthood Clinic\, 2304 University Avenue\, Des Moines\, Iowa 50311 on the dates and times published on the Iowa Right to Life website calendar\, and on the 40 Days For Life website for Des Moines\, Iowa. \nContact persons:  Kristi Judkins 515-669-2749   or   Paula Brown 515-556-6208
URL:https://iowartl.org/event/40-days-for-life-iowa-right-to-life-prayer-time-2-3-2/2025-10-21/
LOCATION:Susan Knapp Planned Parenthood Clinic\, 2304 University Avenue\, Des Moines\, Iowa\, 50311\, United States
CATEGORIES:Prayer
ATTACH;FMTTYPE=image/jpeg:https://iowartl.org/wp-content/uploads/2025/09/2025-Spring-DSM-PP-Paula-Wil-Carmen-Roger-Becca-Kristi.jpg
ORGANIZER;CN="Iowa Right to Life":MAILTO:paula@irlc.org
END:VEVENT
BEGIN:VEVENT
DTSTART;TZID=America/Chicago:20251029T130000
DTEND;TZID=America/Chicago:20251029T140000
DTSTAMP:20260422T194619
CREATED:20251021T220710Z
LAST-MODIFIED:20251021T220710Z
UID:10000049-1761742800-1761746400@iowartl.org
SUMMARY:40 Days For Life/Iowa Right to Life Prayer Time
DESCRIPTION:From 9/24/25 through 11/2/25\, Iowa Right to Life will join the 40 Days For Life Fall Prayer Campaign.  Our community will unite with many others from coast to coast – and internationally – for a major pro-life mobilization – the 40 Days for Life campaign. Faithful believers are praying that these efforts will mark the beginning of the end of abortion. \nAs the Des Moines coordinator\, our campaign focus is on Prayer and Fasting: inviting people of faith throughout our city and surrounding areas to join together for 40 days of prayer and fasting for an end to abortion.  If you are able to join our Peaceful Vigil: we will be standing for life through a peaceful public witness outside the Susan Knapp Planned Parenthood Clinic\, 2304 University Avenue\, Des Moines\, Iowa 50311 on the dates and times published on the Iowa Right to Life website calendar\, and on the 40 Days For Life website for Des Moines\, Iowa. \nContact persons:  Kristi Judkins 515-669-2749   or   Paula Brown 515-556-6208
URL:https://iowartl.org/event/40-days-for-life-iowa-right-to-life-prayer-time-2-3-3/2025-10-29/
LOCATION:Susan Knapp Planned Parenthood Clinic\, 2304 University Avenue\, Des Moines\, Iowa\, 50311\, United States
CATEGORIES:Prayer
ATTACH;FMTTYPE=image/jpeg:https://iowartl.org/wp-content/uploads/2025/09/2025-Spring-DSM-PP-Paula-Wil-Carmen-Roger-Becca-Kristi.jpg
ORGANIZER;CN="Iowa Right to Life":MAILTO:paula@irlc.org
END:VEVENT
END:VCALENDAR