BEGIN:VCALENDAR
VERSION:2.0
PRODID:-//Iowa Right to Life - ECPv6.15.20//NONSGML v1.0//EN
CALSCALE:GREGORIAN
METHOD:PUBLISH
X-ORIGINAL-URL:https://iowartl.org
X-WR-CALDESC:Events for Iowa Right to Life
REFRESH-INTERVAL;VALUE=DURATION:PT1H
X-Robots-Tag:noindex
X-PUBLISHED-TTL:PT1H
BEGIN:VTIMEZONE
TZID:America/Chicago
BEGIN:DAYLIGHT
TZOFFSETFROM:-0600
TZOFFSETTO:-0500
TZNAME:CDT
DTSTART:20240310T080000
END:DAYLIGHT
BEGIN:STANDARD
TZOFFSETFROM:-0500
TZOFFSETTO:-0600
TZNAME:CST
DTSTART:20241103T070000
END:STANDARD
BEGIN:DAYLIGHT
TZOFFSETFROM:-0600
TZOFFSETTO:-0500
TZNAME:CDT
DTSTART:20250309T080000
END:DAYLIGHT
BEGIN:STANDARD
TZOFFSETFROM:-0500
TZOFFSETTO:-0600
TZNAME:CST
DTSTART:20251102T070000
END:STANDARD
BEGIN:DAYLIGHT
TZOFFSETFROM:-0600
TZOFFSETTO:-0500
TZNAME:CDT
DTSTART:20260308T080000
END:DAYLIGHT
BEGIN:STANDARD
TZOFFSETFROM:-0500
TZOFFSETTO:-0600
TZNAME:CST
DTSTART:20261101T070000
END:STANDARD
END:VTIMEZONE
BEGIN:VEVENT
DTSTART;TZID=America/Chicago:20250925T130000
DTEND;TZID=America/Chicago:20250925T140000
DTSTAMP:20260423T085145
CREATED:20251021T220240Z
LAST-MODIFIED:20251021T220240Z
UID:10000045-1758805200-1758808800@iowartl.org
SUMMARY:40 Days For Life/Iowa Right to Life Prayer Time
DESCRIPTION:From 9/24/25 through 11/2/25\, Iowa Right to Life will join the 40 Days For Life Fall Prayer Campaign.  Our community will unite with many others from coast to coast – and internationally – for a major pro-life mobilization – the 40 Days for Life campaign. Faithful believers are praying that these efforts will mark the beginning of the end of abortion. \nAs the Des Moines coordinator\, our campaign focus is on Prayer and Fasting: inviting people of faith throughout our city and surrounding areas to join together for 40 days of prayer and fasting for an end to abortion.  If you are able to join our Peaceful Vigil: we will be standing for life through a peaceful public witness outside the Susan Knapp Planned Parenthood Clinic\, 2304 University Avenue\, Des Moines\, Iowa 50311 on the dates and times published on the Iowa Right to Life website calendar\, and on the 40 Days For Life website for Des Moines\, Iowa. \nContact persons:  Kristi Judkins 515-669-2749   or   Paula Brown 515-556-6208
URL:https://iowartl.org/event/40-days-for-life-iowa-right-to-life-prayer-time-2-2/2025-09-25/
LOCATION:Susan Knapp Planned Parenthood Clinic\, 2304 University Avenue\, Des Moines\, Iowa\, 50311\, United States
CATEGORIES:Prayer
ATTACH;FMTTYPE=image/jpeg:https://iowartl.org/wp-content/uploads/2025/09/2025-Spring-DSM-PP-Paula-Wil-Carmen-Roger-Becca-Kristi.jpg
ORGANIZER;CN="Iowa Right to Life":MAILTO:paula@irlc.org
END:VEVENT
BEGIN:VEVENT
DTSTART;TZID=America/Chicago:20250927T100000
DTEND;TZID=America/Chicago:20250927T110000
DTSTAMP:20260423T085145
CREATED:20250925T152913Z
LAST-MODIFIED:20250925T152913Z
UID:10000043-1758967200-1758970800@iowartl.org
SUMMARY:Indianola Log Cabin Days Parade
DESCRIPTION:Join us as we walk in Indianola’s Log Cabin Day Parade! Wear your pro-life or patriotic t-shirts if you have them. The more parade walkers we have\, the stronger our message for LIFE!\n\n\nDate: Saturday\, September 27th\nStaging Time: 9:30 AM\nParade Begins: 10 AM\nStaging Area: Warren County Administration Building\, 301 North Buxton Street\, Indianola\, IA 50125\nContact:  Paula Brown 515-556-6208\n\n\nThe annual Log Cabin Days Parade and Celebration in Indianola serves as one of the largest fundraisers and events for the Warren County Historical Society. After the parade\, check out the other fun activities of Log Cabin Days Festival.
URL:https://iowartl.org/event/indianola-log-cabin-days-parade/
LOCATION:Warren County Administration Office\, 301 North Buxton Street\, Indianola\, IA\, 50125\, United States
CATEGORIES:Parades
ATTACH;FMTTYPE=image/jpeg:https://iowartl.org/wp-content/uploads/2025/09/2025-Log-Cabin-Festivities.jpg
END:VEVENT
BEGIN:VEVENT
DTSTART;TZID=America/Chicago:20250930T130000
DTEND;TZID=America/Chicago:20250930T140000
DTSTAMP:20260423T085145
CREATED:20251021T215946Z
LAST-MODIFIED:20251021T215946Z
UID:10000044-1759237200-1759240800@iowartl.org
SUMMARY:40 Days For Life/Iowa Right to Life Prayer Time
DESCRIPTION:From 9/24/25 through 11/2/25\, Iowa Right to Life will join the 40 Days For Life Fall Prayer Campaign.  Our community will unite with many others from coast to coast – and internationally – for a major pro-life mobilization – the 40 Days for Life campaign. Faithful believers are praying that these efforts will mark the beginning of the end of abortion. \nAs the Des Moines coordinator\, our campaign focus is on Prayer and Fasting: inviting people of faith throughout our city and surrounding areas to join together for 40 days of prayer and fasting for an end to abortion.  If you are able to join our Peaceful Vigil: we will be standing for life through a peaceful public witness outside the Susan Knapp Planned Parenthood Clinic\, 2304 University Avenue\, Des Moines\, Iowa 50311 on the dates and times published on the Iowa Right to Life website calendar\, and on the 40 Days For Life website for Des Moines\, Iowa. \nContact persons:  Kristi Judkins 515-669-2749   or   Paula Brown 515-556-6208
URL:https://iowartl.org/event/40-days-for-life-iowa-right-to-life-prayer-time-2/2025-09-30/
LOCATION:Susan Knapp Planned Parenthood Clinic\, 2304 University Avenue\, Des Moines\, Iowa\, 50311\, United States
CATEGORIES:Prayer
ATTACH;FMTTYPE=image/jpeg:https://iowartl.org/wp-content/uploads/2025/09/2025-Spring-DSM-PP-Paula-Wil-Carmen-Roger-Becca-Kristi.jpg
ORGANIZER;CN="Iowa Right to Life":MAILTO:paula@irlc.org
END:VEVENT
END:VCALENDAR