BEGIN:VCALENDAR
VERSION:2.0
PRODID:-//Iowa Right to Life - ECPv6.15.20//NONSGML v1.0//EN
CALSCALE:GREGORIAN
METHOD:PUBLISH
X-WR-CALNAME:Iowa Right to Life
X-ORIGINAL-URL:https://iowartl.org
X-WR-CALDESC:Events for Iowa Right to Life
REFRESH-INTERVAL;VALUE=DURATION:PT1H
X-Robots-Tag:noindex
X-PUBLISHED-TTL:PT1H
BEGIN:VTIMEZONE
TZID:America/Chicago
BEGIN:DAYLIGHT
TZOFFSETFROM:-0600
TZOFFSETTO:-0500
TZNAME:CDT
DTSTART:20250309T080000
END:DAYLIGHT
BEGIN:STANDARD
TZOFFSETFROM:-0500
TZOFFSETTO:-0600
TZNAME:CST
DTSTART:20251102T070000
END:STANDARD
BEGIN:DAYLIGHT
TZOFFSETFROM:-0600
TZOFFSETTO:-0500
TZNAME:CDT
DTSTART:20260308T080000
END:DAYLIGHT
BEGIN:STANDARD
TZOFFSETFROM:-0500
TZOFFSETTO:-0600
TZNAME:CST
DTSTART:20261101T070000
END:STANDARD
BEGIN:DAYLIGHT
TZOFFSETFROM:-0600
TZOFFSETTO:-0500
TZNAME:CDT
DTSTART:20270314T080000
END:DAYLIGHT
BEGIN:STANDARD
TZOFFSETFROM:-0500
TZOFFSETTO:-0600
TZNAME:CST
DTSTART:20271107T070000
END:STANDARD
END:VTIMEZONE
BEGIN:VEVENT
DTSTART;TZID=America/Chicago:20260326T183000
DTEND;TZID=America/Chicago:20260326T203000
DTSTAMP:20260422T114244
CREATED:20260313T183047Z
LAST-MODIFIED:20260313T183047Z
UID:10000105-1774549800-1774557000@iowartl.org
SUMMARY:Polk County Lincoln Dinner
DESCRIPTION:Iowa Right to Life will have a literature table with free resources at the Polk County Lincoln Dinner.  If you are attending the Lincoln Dinner\, please stop by our booth and say ‘Hi’. \nSee details HERE. \n 
URL:https://iowartl.org/event/polk-county-lincoln-dinner/
LOCATION:Airport Holiday Inn\, 6111 Fleur Dr\, Des Moines\, Iowa\, 50321
CATEGORIES:Literature Table
ATTACH;FMTTYPE=image/jpeg:https://iowartl.org/wp-content/uploads/2026/03/Lincoln_Dinner_2026_1000x1294.jpg
END:VEVENT
END:VCALENDAR